BEGIN:VCALENDAR
VERSION:2.0
PRODID:-//Lions Club - ECPv6.8.3//NONSGML v1.0//EN
CALSCALE:GREGORIAN
METHOD:PUBLISH
X-WR-CALNAME:Lions Club
X-ORIGINAL-URL:https://www.lc-koeln.de
X-WR-CALDESC:Veranstaltungen für Lions Club
REFRESH-INTERVAL;VALUE=DURATION:PT1H
X-Robots-Tag:noindex
X-PUBLISHED-TTL:PT1H
BEGIN:VTIMEZONE
TZID:Europe/Berlin
BEGIN:DAYLIGHT
TZOFFSETFROM:+0100
TZOFFSETTO:+0200
TZNAME:CEST
DTSTART:20190331T010000
END:DAYLIGHT
BEGIN:STANDARD
TZOFFSETFROM:+0200
TZOFFSETTO:+0100
TZNAME:CET
DTSTART:20191027T010000
END:STANDARD
END:VTIMEZONE
BEGIN:VEVENT
DTSTART;TZID=Europe/Berlin:20190707T110000
DTEND;TZID=Europe/Berlin:20190707T150000
DTSTAMP:20260423T002417
CREATED:20190703T151852Z
LAST-MODIFIED:20190703T152811Z
UID:538-1562497200-1562511600@www.lc-koeln.de
SUMMARY:Sonntagsbrunch
DESCRIPTION:
URL:https://www.lc-koeln.de/event/sonntagsbrunch/
LOCATION:Einladung mit Begleitung (Kind und Kegel) zum Sonntagsbrunch\, Goethestr. 69\, 50968 Köln\, 50968\, Deutschland
END:VEVENT
END:VCALENDAR