BEGIN:VCALENDAR
VERSION:2.0
PRODID:-//Lions Club - ECPv6.8.3//NONSGML v1.0//EN
CALSCALE:GREGORIAN
METHOD:PUBLISH
X-WR-CALNAME:Lions Club
X-ORIGINAL-URL:https://www.lc-koeln.de
X-WR-CALDESC:Veranstaltungen für Lions Club
REFRESH-INTERVAL;VALUE=DURATION:PT1H
X-Robots-Tag:noindex
X-PUBLISHED-TTL:PT1H
BEGIN:VTIMEZONE
TZID:Europe/Berlin
BEGIN:DAYLIGHT
TZOFFSETFROM:+0100
TZOFFSETTO:+0200
TZNAME:CEST
DTSTART:20190331T010000
END:DAYLIGHT
BEGIN:STANDARD
TZOFFSETFROM:+0200
TZOFFSETTO:+0100
TZNAME:CET
DTSTART:20191027T010000
END:STANDARD
END:VTIMEZONE
BEGIN:VEVENT
DTSTART;TZID=Europe/Berlin:20190902T120000
DTEND;TZID=Europe/Berlin:20190902T123000
DTSTAMP:20260422T202932
CREATED:20190704T132244Z
LAST-MODIFIED:20220921T180850Z
UID:603-1567425600-1567427400@www.lc-koeln.de
SUMMARY:Golf-Turnier im GLC Refrath
DESCRIPTION:Abendveranstaltung im Excelsior Hotel Ernst
URL:https://www.lc-koeln.de/event/golf-turnier-im-glc-refrath/
LOCATION:Golf- und Land-Club Köln e.V.\, Golfpl. 2\, Bergisch Gladbach\, 51429\, Deutschland
END:VEVENT
END:VCALENDAR