BEGIN:VCALENDAR
VERSION:2.0
PRODID:-//Lions Club - ECPv6.8.3//NONSGML v1.0//EN
CALSCALE:GREGORIAN
METHOD:PUBLISH
X-ORIGINAL-URL:https://www.lc-koeln.de
X-WR-CALDESC:Veranstaltungen für Lions Club
REFRESH-INTERVAL;VALUE=DURATION:PT1H
X-Robots-Tag:noindex
X-PUBLISHED-TTL:PT1H
BEGIN:VTIMEZONE
TZID:Europe/Berlin
BEGIN:DAYLIGHT
TZOFFSETFROM:+0100
TZOFFSETTO:+0200
TZNAME:CEST
DTSTART:20190331T010000
END:DAYLIGHT
BEGIN:STANDARD
TZOFFSETFROM:+0200
TZOFFSETTO:+0100
TZNAME:CET
DTSTART:20191027T010000
END:STANDARD
END:VTIMEZONE
BEGIN:VEVENT
DTSTART;TZID=Europe/Berlin:20190924T190000
DTEND;TZID=Europe/Berlin:20190924T193000
DTSTAMP:20260422T203156
CREATED:20190704T132512Z
LAST-MODIFIED:20220921T180603Z
UID:608-1569351600-1569353400@www.lc-koeln.de
SUMMARY:Stammtisch im Hotel Mondial
DESCRIPTION:„Reissdorf im Mondial“
URL:https://www.lc-koeln.de/event/stammtisch-im-hotel-mondial-2/
LOCATION:Hotel Mondial\, Kurt-Hackenberg-Platz 1\, Köln\, 50667\, Deutschland
END:VEVENT
END:VCALENDAR