BEGIN:VCALENDAR
VERSION:2.0
PRODID:-//Lions Club - ECPv6.8.3//NONSGML v1.0//EN
CALSCALE:GREGORIAN
METHOD:PUBLISH
X-ORIGINAL-URL:https://www.lc-koeln.de
X-WR-CALDESC:Veranstaltungen für Lions Club
REFRESH-INTERVAL;VALUE=DURATION:PT1H
X-Robots-Tag:noindex
X-PUBLISHED-TTL:PT1H
BEGIN:VTIMEZONE
TZID:Europe/Berlin
BEGIN:DAYLIGHT
TZOFFSETFROM:+0100
TZOFFSETTO:+0200
TZNAME:CEST
DTSTART:20190331T010000
END:DAYLIGHT
BEGIN:STANDARD
TZOFFSETFROM:+0200
TZOFFSETTO:+0100
TZNAME:CET
DTSTART:20191027T010000
END:STANDARD
END:VTIMEZONE
BEGIN:VEVENT
DTSTART;TZID=Europe/Berlin:20191112T190000
DTEND;TZID=Europe/Berlin:20191112T190000
DTSTAMP:20260422T174626
CREATED:20190704T132714Z
LAST-MODIFIED:20191008T114403Z
UID:616-1573585200-1573585200@www.lc-koeln.de
SUMMARY:Clubabend mit Damen
DESCRIPTION:Thema: „Köln und seine Agrippina“\nReferent: Dr. Mario Kramp\, Direktor Kölnisches Stadtmuseum
URL:https://www.lc-koeln.de/event/clubabend-mit-damen-4/
LOCATION:Excelsior Hotel Ernst\, Trankgasse 1-5\, Köln\, 50667\, Deutschland
END:VEVENT
END:VCALENDAR