BEGIN:VCALENDAR
VERSION:2.0
PRODID:-//Lions Club - ECPv6.8.3//NONSGML v1.0//EN
CALSCALE:GREGORIAN
METHOD:PUBLISH
X-ORIGINAL-URL:https://www.lc-koeln.de
X-WR-CALDESC:Veranstaltungen für Lions Club
REFRESH-INTERVAL;VALUE=DURATION:PT1H
X-Robots-Tag:noindex
X-PUBLISHED-TTL:PT1H
BEGIN:VTIMEZONE
TZID:Europe/Berlin
BEGIN:DAYLIGHT
TZOFFSETFROM:+0100
TZOFFSETTO:+0200
TZNAME:CEST
DTSTART:20190331T010000
END:DAYLIGHT
BEGIN:STANDARD
TZOFFSETFROM:+0200
TZOFFSETTO:+0100
TZNAME:CET
DTSTART:20191027T010000
END:STANDARD
END:VTIMEZONE
BEGIN:VEVENT
DTSTART;TZID=Europe/Berlin:20191112T190000
DTEND;TZID=Europe/Berlin:20191112T190000
DTSTAMP:20260422T160403
CREATED:20190704T132714Z
LAST-MODIFIED:20191008T114403Z
UID:616-1573585200-1573585200@www.lc-koeln.de
SUMMARY:Clubabend mit Damen
DESCRIPTION:Thema: „Köln und seine Agrippina“\nReferent: Dr. Mario Kramp\, Direktor Kölnisches Stadtmuseum
URL:https://www.lc-koeln.de/event/clubabend-mit-damen-4/
LOCATION:Excelsior Hotel Ernst\, Trankgasse 1-5\, Köln\, 50667\, Deutschland
END:VEVENT
BEGIN:VEVENT
DTSTART;TZID=Europe/Berlin:20191115T190000
DTEND;TZID=Europe/Berlin:20191115T190000
DTSTAMP:20260422T160403
CREATED:20190704T132813Z
LAST-MODIFIED:20191008T114510Z
UID:619-1573844400-1573844400@www.lc-koeln.de
SUMMARY:Einladung und Get-together bei LF J. Michael
DESCRIPTION:(„Motto“ wird noch bekanntgegeben\, separate Einladung folgt)
URL:https://www.lc-koeln.de/event/einladung-und-get-together-bei-lf-j-michael/
LOCATION:LF J. Michael\, Alteburger Str. 286\, Köln\, 50968\, Deutschland
END:VEVENT
BEGIN:VEVENT
DTSTART;TZID=Europe/Berlin:20191126T190000
DTEND;TZID=Europe/Berlin:20191126T190000
DTSTAMP:20260422T160403
CREATED:20190704T132853Z
LAST-MODIFIED:20191008T114527Z
UID:622-1574794800-1574794800@www.lc-koeln.de
SUMMARY:Stammtisch im Hotel Mondial
DESCRIPTION:„Reissdorf im Mondial“
URL:https://www.lc-koeln.de/event/stammtisch-im-hotel-mondial-4/
LOCATION:Hotel Mondial\, Kurt-Hackenberg-Platz 1\, Köln\, 50667\, Deutschland
END:VEVENT
END:VCALENDAR