BEGIN:VCALENDAR
VERSION:2.0
PRODID:-//Lions Club - ECPv6.8.3//NONSGML v1.0//EN
CALSCALE:GREGORIAN
METHOD:PUBLISH
X-ORIGINAL-URL:https://www.lc-koeln.de
X-WR-CALDESC:Veranstaltungen für Lions Club
REFRESH-INTERVAL;VALUE=DURATION:PT1H
X-Robots-Tag:noindex
X-PUBLISHED-TTL:PT1H
BEGIN:VTIMEZONE
TZID:Europe/Berlin
BEGIN:DAYLIGHT
TZOFFSETFROM:+0100
TZOFFSETTO:+0200
TZNAME:CEST
DTSTART:20200329T010000
END:DAYLIGHT
BEGIN:STANDARD
TZOFFSETFROM:+0200
TZOFFSETTO:+0100
TZNAME:CET
DTSTART:20201025T010000
END:STANDARD
END:VTIMEZONE
BEGIN:VEVENT
DTSTART;TZID=Europe/Berlin:20200114T190000
DTEND;TZID=Europe/Berlin:20200114T190000
DTSTAMP:20260422T130602
CREATED:20190704T133021Z
LAST-MODIFIED:20191008T114706Z
UID:627-1579028400-1579028400@www.lc-koeln.de
SUMMARY:Clubabend mit Damen
DESCRIPTION:Thema: „Deutsche Justiz an der Belastungsgrenze“\nReferent: Roland Ketterle\, Präsident Landgericht Köln
URL:https://www.lc-koeln.de/event/clubabend-mit-damen-5/
LOCATION:Excelsior Hotel Ernst\, Trankgasse 1-5\, Köln\, 50667\, Deutschland
END:VEVENT
BEGIN:VEVENT
DTSTART;TZID=Europe/Berlin:20200128T190000
DTEND;TZID=Europe/Berlin:20200128T190000
DTSTAMP:20260422T130602
CREATED:20190704T133100Z
LAST-MODIFIED:20201006T152045Z
UID:630-1580238000-1580238000@www.lc-koeln.de
SUMMARY:Stammtisch im Hotel Mondial
DESCRIPTION:„Reissdorf im Mondial“
URL:https://www.lc-koeln.de/event/stammtisch-im-hotel-mondial-5/
LOCATION:Hotel Mondial\, Kurt-Hackenberg-Platz 1\, Köln\, 50667\, Deutschland
END:VEVENT
END:VCALENDAR